BEGIN:VCALENDAR
VERSION:2.0
PRODID:-//Episcopal Diocese of Western New York - ECPv6.15.20//NONSGML v1.0//EN
CALSCALE:GREGORIAN
METHOD:PUBLISH
X-ORIGINAL-URL:https://episcopalwny.org
X-WR-CALDESC:Events for Episcopal Diocese of Western New York
REFRESH-INTERVAL;VALUE=DURATION:PT1H
X-Robots-Tag:noindex
X-PUBLISHED-TTL:PT1H
BEGIN:VTIMEZONE
TZID:America/New_York
BEGIN:DAYLIGHT
TZOFFSETFROM:-0500
TZOFFSETTO:-0400
TZNAME:EDT
DTSTART:20250309T070000
END:DAYLIGHT
BEGIN:STANDARD
TZOFFSETFROM:-0400
TZOFFSETTO:-0500
TZNAME:EST
DTSTART:20251102T060000
END:STANDARD
BEGIN:DAYLIGHT
TZOFFSETFROM:-0500
TZOFFSETTO:-0400
TZNAME:EDT
DTSTART:20260308T070000
END:DAYLIGHT
BEGIN:STANDARD
TZOFFSETFROM:-0400
TZOFFSETTO:-0500
TZNAME:EST
DTSTART:20261101T060000
END:STANDARD
BEGIN:DAYLIGHT
TZOFFSETFROM:-0500
TZOFFSETTO:-0400
TZNAME:EDT
DTSTART:20270314T070000
END:DAYLIGHT
BEGIN:STANDARD
TZOFFSETFROM:-0400
TZOFFSETTO:-0500
TZNAME:EST
DTSTART:20271107T060000
END:STANDARD
END:VTIMEZONE
BEGIN:VEVENT
DTSTART;TZID=America/New_York:20260307T090000
DTEND;TZID=America/New_York:20260307T150000
DTSTAMP:20260422T115541
CREATED:20251218T192352Z
LAST-MODIFIED:20260128T155408Z
UID:1712-1772874000-1772895600@episcopalwny.org
SUMMARY:Parish Leadership Day
DESCRIPTION:The diocese will hold a Parish Leadership Day on March 7 at the Diocesan Ministry Center. \n9-10am: Overview for new wardens and new vestry members\n10am-3pm: Group presentations and breakout sessions for all parish leaders \nAs there will be multiple sessions\, we recommend at least TWO members from each congregation to attend. We encourage all lay leaders to attend…warden\, vestry member\, treasurer\, and all other lay leaders. \nLunch will be included as part of the day. Please REGISTER so that we have an accurate count for planning purposes.
URL:https://episcopalwny.org/event/wardens-day/
LOCATION:Diocesan Ministry Center\, 1064 Brighton Rd\, Tonawanda\, NY\, 14150\, United States
CATEGORIES:Event
END:VEVENT
BEGIN:VEVENT
DTSTART;TZID=America/New_York:20260307T160000
DTEND;TZID=America/New_York:20260307T180000
DTSTAMP:20260422T115541
CREATED:20251105T192503Z
LAST-MODIFIED:20251120T192931Z
UID:1446-1772899200-1772906400@episcopalwny.org
SUMMARY:Bishop's Visitation - St. Michael’s & All Angels\, Buffalo
DESCRIPTION:
URL:https://episcopalwny.org/event/bishop-visitation-st-michaels-all-angels-buffalo/
LOCATION:St Michael’s & All Angels\, 81 Burke Drive\, Buffalo\, NY\, 14215\, United States
CATEGORIES:Event
END:VEVENT
BEGIN:VEVENT
DTSTART;TZID=America/New_York:20260308T100000
DTEND;TZID=America/New_York:20260308T120000
DTSTAMP:20260422T115541
CREATED:20251105T193300Z
LAST-MODIFIED:20251119T151415Z
UID:1451-1772964000-1772971200@episcopalwny.org
SUMMARY:Bishop's Visitation - St. Paul’s\, Harris Hill
DESCRIPTION:
URL:https://episcopalwny.org/event/bishops-visit-st-pauls-harris-hill/
LOCATION:St. Paul’s\, Harris Hill\, 4275 Harris Hill Road\, Williamsville\, NY\, 14221\, United States
CATEGORIES:Bishop Visitation,Event
END:VEVENT
BEGIN:VEVENT
DTSTART;TZID=America/New_York:20260312T160000
DTEND;TZID=America/New_York:20260312T160000
DTSTAMP:20260422T115541
CREATED:20251210T202416Z
LAST-MODIFIED:20260309T174555Z
UID:1604-1773331200-1773331200@episcopalwny.org
SUMMARY:Standing Committee Meeting
DESCRIPTION:
URL:https://episcopalwny.org/event/standing-committee-meeting-zoom/
LOCATION:Diocesan Ministry Center\, 1064 Brighton Rd\, Tonawanda\, NY\, 14150\, United States
CATEGORIES:Event,Governance
END:VEVENT
BEGIN:VEVENT
DTSTART;TZID=America/New_York:20260315T140000
DTEND;TZID=America/New_York:20260315T160000
DTSTAMP:20260422T115541
CREATED:20260106T002019Z
LAST-MODIFIED:20260106T002019Z
UID:1754-1773583200-1773590400@episcopalwny.org
SUMMARY:Family Bowling
DESCRIPTION:Strike up some fun with us at the Lanes on March 15 from 2-4pm at the Broadway Sports Center. \n$10 per Bowler or $40 per Family\, Includes:\n2 Hours of Bowling\nShow Rental\nPizza & Soda \nRSVP to Wendy Schumacher\n716-830-5443
URL:https://episcopalwny.org/event/family-bowling/
LOCATION:Broadway Sports Center\, 3500 Broadway\, Cheektowaga\, NY\, 14227\, United States
END:VEVENT
BEGIN:VEVENT
DTSTART;TZID=America/New_York:20260321T110000
DTEND;TZID=America/New_York:20260321T143000
DTSTAMP:20260422T115541
CREATED:20260303T142443Z
LAST-MODIFIED:20260317T184524Z
UID:1968-1774090800-1774103400@episcopalwny.org
SUMMARY:Its Up To Us - Movie & Lunch
DESCRIPTION:The Joint Commission to Dismantle Racism & Discrimination (CDRD) is offering a movie and lunch. \nVisit the CDRD website page for details and to register:  CDRD Ministry Page
URL:https://episcopalwny.org/event/its-up-to-us-movie-lunch/
LOCATION:Diocesan Ministry Center\, 1064 Brighton Rd\, Tonawanda\, NY\, 14150\, United States
CATEGORIES:Event
END:VEVENT
BEGIN:VEVENT
DTSTART;TZID=America/New_York:20260328T100000
DTEND;TZID=America/New_York:20260328T100000
DTSTAMP:20260422T115541
CREATED:20260227T191900Z
LAST-MODIFIED:20260302T163004Z
UID:1947-1774692000-1774692000@episcopalwny.org
SUMMARY:Ordination to the Diaconate
DESCRIPTION:God willing and the people consenting \nThe Right Reverend Stephen T. Lane\nBishop Provisional of the Episcopal Diocese of Western New York \nwill ordain\nMarc Anthony Gutierrez\nto the Sacred Order of Deacons\nin Christ’s one\, holy\, catholic\, and apostolic church \nSaturday\, March 28\, 2026\n10:00 am\nSt. Paul’s Cathedral\n4 Cathedral Park\, Buffalo\, NY 14202 \nYour prayers and presence are joyfully requested\nReception to follow the ceremony \nClergy: Red or Festive Stoles
URL:https://episcopalwny.org/event/ordination-to-the-diaconate/
LOCATION:St. Paul’s Cathedral\, Buffalo\, 139 Pearl Street\, Buffalo\, NY\, 14202\, United States
END:VEVENT
BEGIN:VEVENT
DTSTART;TZID=America/New_York:20260331T093000
DTEND;TZID=America/New_York:20260331T123000
DTSTAMP:20260422T115541
CREATED:20260126T153639Z
LAST-MODIFIED:20260126T153639Z
UID:1824-1774949400-1774960200@episcopalwny.org
SUMMARY:Chrism Liturgy and Renewal of Vows
DESCRIPTION:
URL:https://episcopalwny.org/event/chrism-liturgy-and-renewal-of-vows/
LOCATION:St. Paul’s Cathedral\, Buffalo\, 139 Pearl Street\, Buffalo\, NY\, 14202\, United States
CATEGORIES:Event
END:VEVENT
END:VCALENDAR