BEGIN:VCALENDAR
VERSION:2.0
PRODID:-//Episcopal Diocese of Western New York - ECPv6.15.20//NONSGML v1.0//EN
CALSCALE:GREGORIAN
METHOD:PUBLISH
X-WR-CALNAME:Episcopal Diocese of Western New York
X-ORIGINAL-URL:https://episcopalwny.org
X-WR-CALDESC:Events for Episcopal Diocese of Western New York
REFRESH-INTERVAL;VALUE=DURATION:PT1H
X-Robots-Tag:noindex
X-PUBLISHED-TTL:PT1H
BEGIN:VTIMEZONE
TZID:America/New_York
BEGIN:DAYLIGHT
TZOFFSETFROM:-0500
TZOFFSETTO:-0400
TZNAME:EDT
DTSTART:20240310T070000
END:DAYLIGHT
BEGIN:STANDARD
TZOFFSETFROM:-0400
TZOFFSETTO:-0500
TZNAME:EST
DTSTART:20241103T060000
END:STANDARD
BEGIN:DAYLIGHT
TZOFFSETFROM:-0500
TZOFFSETTO:-0400
TZNAME:EDT
DTSTART:20250309T070000
END:DAYLIGHT
BEGIN:STANDARD
TZOFFSETFROM:-0400
TZOFFSETTO:-0500
TZNAME:EST
DTSTART:20251102T060000
END:STANDARD
BEGIN:DAYLIGHT
TZOFFSETFROM:-0500
TZOFFSETTO:-0400
TZNAME:EDT
DTSTART:20260308T070000
END:DAYLIGHT
BEGIN:STANDARD
TZOFFSETFROM:-0400
TZOFFSETTO:-0500
TZNAME:EST
DTSTART:20261101T060000
END:STANDARD
END:VTIMEZONE
BEGIN:VEVENT
DTSTART;TZID=America/New_York:20251218T160000
DTEND;TZID=America/New_York:20251218T170000
DTSTAMP:20260422T182818
CREATED:20250623T174516Z
LAST-MODIFIED:20251020T191233Z
UID:449-1766073600-1766077200@episcopalwny.org
SUMMARY:Standing Committee Meeting
DESCRIPTION:
URL:https://episcopalwny.org/event/standing-committee-meeting-12-18-25/
LOCATION:Diocesan Ministry Center\, 1064 Brighton Rd\, Tonawanda\, NY\, 14150\, United States
CATEGORIES:Governance
END:VEVENT
BEGIN:VEVENT
DTSTART;TZID=America/New_York:20251214T090000
DTEND;TZID=America/New_York:20251214T110000
DTSTAMP:20260422T182818
CREATED:20251021T190211Z
LAST-MODIFIED:20251120T193004Z
UID:1367-1765702800-1765710000@episcopalwny.org
SUMMARY:Bishop's Visitation - St. Mark’s\, North Tonawanda
DESCRIPTION:
URL:https://episcopalwny.org/event/bishop-visitation-st-marks-north-tonawanda/
LOCATION:St. Mark’s\, NT\, 61 Payne Avenue\, North Tonawanda\, NY\, 14120\, United States
CATEGORIES:Bishop Visitation,Event
END:VEVENT
BEGIN:VEVENT
DTSTART;TZID=America/New_York:20251207T160000
DTEND;TZID=America/New_York:20251207T200000
DTSTAMP:20260422T182818
CREATED:20250821T203201Z
LAST-MODIFIED:20251020T191724Z
UID:928-1765123200-1765137600@episcopalwny.org
SUMMARY:Family Buffalo Bills Tailgate Party
DESCRIPTION:All ages will cheer on our Buffalo Bills together! Bring some snacks to share and we’ll provide pizza at halftime. \nRSVP by December 5 to Wendy Schumacher 716-830-5443
URL:https://episcopalwny.org/event/family-buffalo-bills-game-event/
LOCATION:Diocesan Ministry Center\, 1064 Brighton Rd\, Tonawanda\, NY\, 14150\, United States
CATEGORIES:Event,Youth
END:VEVENT
BEGIN:VEVENT
DTSTART;TZID=America/New_York:20251120T180000
DTEND;TZID=America/New_York:20251120T180000
DTSTAMP:20260422T182818
CREATED:20250623T175308Z
LAST-MODIFIED:20251020T191148Z
UID:459-1763661600-1763661600@episcopalwny.org
SUMMARY:Diocesan Council Meeting
DESCRIPTION:
URL:https://episcopalwny.org/event/diocesan-council-meeting-11-20-25/
LOCATION:Diocesan Ministry Center\, 1064 Brighton Rd\, Tonawanda\, NY\, 14150\, United States
CATEGORIES:Governance
END:VEVENT
BEGIN:VEVENT
DTSTART;TZID=America/New_York:20251120T160000
DTEND;TZID=America/New_York:20251120T170000
DTSTAMP:20260422T182818
CREATED:20250623T174442Z
LAST-MODIFIED:20251020T191101Z
UID:447-1763654400-1763658000@episcopalwny.org
SUMMARY:Standing Committee Meeting
DESCRIPTION:
URL:https://episcopalwny.org/event/standing-committee-meeting-11-20-25/
LOCATION:Diocesan Ministry Center\, 1064 Brighton Rd\, Tonawanda\, NY\, 14150\, United States
CATEGORIES:Governance
END:VEVENT
BEGIN:VEVENT
DTSTART;TZID=America/New_York:20251116T103000
DTEND;TZID=America/New_York:20251116T120000
DTSTAMP:20260422T182818
CREATED:20251021T185419Z
LAST-MODIFIED:20251021T185419Z
UID:1361-1763289000-1763294400@episcopalwny.org
SUMMARY:Bishop Visitation - Trinity\, Warsaw
DESCRIPTION:
URL:https://episcopalwny.org/event/bishop-visitation-trinity-warsaw/
LOCATION:Trinity\, Warsaw\, 62 West Buffalo Street\, Warsaw\, NY\, 14569\, United States
CATEGORIES:Bishop Visitation,Event
END:VEVENT
BEGIN:VEVENT
DTSTART;TZID=America/New_York:20251116T090000
DTEND;TZID=America/New_York:20251116T100000
DTSTAMP:20260422T182818
CREATED:20251021T185207Z
LAST-MODIFIED:20251021T185207Z
UID:1358-1763283600-1763287200@episcopalwny.org
SUMMARY:Bishop Visitation - Holy Apostles\, Perry
DESCRIPTION:
URL:https://episcopalwny.org/event/bishop-visitation-holy-apostles-perry/
LOCATION:Holy Apostles\, 88 South Main Street\, Perry\, NY\, 14530\, United States
CATEGORIES:Bishop Visitation,Event
END:VEVENT
BEGIN:VEVENT
DTSTART;TZID=America/New_York:20251115T100000
DTEND;TZID=America/New_York:20251115T150000
DTSTAMP:20260422T182818
CREATED:20250731T133430Z
LAST-MODIFIED:20250731T133430Z
UID:792-1763200800-1763218800@episcopalwny.org
SUMMARY:In-Person Safe Church Training
DESCRIPTION:For anyone needing Safe Church training but cannot access the online training or prefer in-person training\, join us at St Paul’s\, Angola from 10am-3pm. All persons attending MUST have an email account in their name as required by Praesidium Academy. \nNote…the NYS Sexual Harassment course mandated annually by NYS for paid employees must be taken online. Contact Shawn Slother if you’d like to take the NYS course at the Diocesan Ministry Center for assistance. \nRegistration for this training will open in October.
URL:https://episcopalwny.org/event/in-person-safe-church-training/
LOCATION:St Paul’s\, Angola\, 930 Lake Street\, Angola\, NY\, 14006\, United States
CATEGORIES:Event
END:VEVENT
BEGIN:VEVENT
DTSTART;TZID=America/New_York:20251102T090000
DTEND;TZID=America/New_York:20251102T110000
DTSTAMP:20260422T182818
CREATED:20251021T184315Z
LAST-MODIFIED:20251021T184315Z
UID:1355-1762074000-1762081200@episcopalwny.org
SUMMARY:Bishop Visitation - St. David's\, West Seneca
DESCRIPTION:
URL:https://episcopalwny.org/event/bishop-visitation-st-davids-west-seneca/
LOCATION:St David’s\, 3951 Seneca Street\, West Seneca\, NY\, 14224\, United States
CATEGORIES:Bishop Visitation,Event
END:VEVENT
BEGIN:VEVENT
DTSTART;TZID=America/New_York:20251029T160000
DTEND;TZID=America/New_York:20251029T160000
DTSTAMP:20260422T182818
CREATED:20250617T175105Z
LAST-MODIFIED:20250617T175105Z
UID:378-1761753600-1761753600@episcopalwny.org
SUMMARY:Trustees Meeting
DESCRIPTION:
URL:https://episcopalwny.org/event/trustees-meeting-10-29-25/
LOCATION:Diocesan Ministry Center\, 1064 Brighton Rd\, Tonawanda\, NY\, 14150\, United States
CATEGORIES:Governance
END:VEVENT
BEGIN:VEVENT
DTSTART;TZID=America/New_York:20251026T093000
DTEND;TZID=America/New_York:20251026T113000
DTSTAMP:20260422T182818
CREATED:20251021T183929Z
LAST-MODIFIED:20251021T184402Z
UID:1352-1761471000-1761478200@episcopalwny.org
SUMMARY:Bishop Visitation - St. Philip's\, Buffalo
DESCRIPTION:
URL:https://episcopalwny.org/event/bishop-visitation-st-philips-buffalo/
LOCATION:St. Philip’s\, 15 Fernhill Avenue\, Buffalo\, NY\, 14215\, United States
CATEGORIES:Bishop Visitation,Event
END:VEVENT
BEGIN:VEVENT
DTSTART;TZID=America/New_York:20251023T180000
DTEND;TZID=America/New_York:20251023T190000
DTSTAMP:20260422T182818
CREATED:20250623T175234Z
LAST-MODIFIED:20251014T175448Z
UID:457-1761242400-1761246000@episcopalwny.org
SUMMARY:Diocesan Council Meeting
DESCRIPTION:
URL:https://episcopalwny.org/event/diocesan-council-meeting-10-16-25/
LOCATION:Diocesan Ministry Center\, 1064 Brighton Rd\, Tonawanda\, NY\, 14150\, United States
CATEGORIES:Governance
END:VEVENT
BEGIN:VEVENT
DTSTART;TZID=America/New_York:20251023T160000
DTEND;TZID=America/New_York:20251023T170000
DTSTAMP:20260422T182818
CREATED:20250623T174400Z
LAST-MODIFIED:20251014T175403Z
UID:445-1761235200-1761238800@episcopalwny.org
SUMMARY:Standing Committee Meeting
DESCRIPTION:
URL:https://episcopalwny.org/event/standing-committee-meeting-10-16-25/
LOCATION:Diocesan Ministry Center\, 1064 Brighton Rd\, Tonawanda\, NY\, 14150\, United States
CATEGORIES:Governance
END:VEVENT
BEGIN:VEVENT
DTSTART;TZID=America/New_York:20251010T100000
DTEND;TZID=America/New_York:20251011T120000
DTSTAMP:20260422T182818
CREATED:20250617T174949Z
LAST-MODIFIED:20250724T145627Z
UID:375-1760090400-1760184000@episcopalwny.org
SUMMARY:2025 Diocesan Convention
DESCRIPTION:The 2025 Convention of the Diocese of Western New York will be held at the Niagara Falls Convention Center in Niagara Falls on October 10-11\, 2025. \nFor details\, please see our 2025 Diocesan Convention Page
URL:https://episcopalwny.org/event/2025-diocesan-convention/
LOCATION:Niagara Falls Convention Center\, 101 Old Falls Street\, Niagara Falls\, NY\, 14303\, United States
CATEGORIES:Diocesan Convention
END:VEVENT
BEGIN:VEVENT
DTSTART;TZID=America/New_York:20251009T180000
DTEND;TZID=America/New_York:20251009T210000
DTSTAMP:20260422T182818
CREATED:20250819T160705Z
LAST-MODIFIED:20250819T160705Z
UID:897-1760032800-1760043600@episcopalwny.org
SUMMARY:Pre-Convention Dinner & Movie
DESCRIPTION:The WNY & NWPA Commission to Dismantle Racism and Discrimination is hosting an October 9th a Pre-Convention Dinner & a Movie showing of The Philadelphia Eleven\, the story of the first eleven women ordained priests in the Episcopal Church. “In an act akin to civil disobedience\, a group of women and their supporters organize their ordination to become Episcopal priests in 1974. The Church of the Advocate in Philadelphia welcomes them\, but change is no small task. The women are harassed\, threatened and banned from stepping on church property. … Meet the women who challenge the very essence of patriarchy within Christendom and succeed in building a movement that transforms an age-old institution.” \nJoin us for dinner\, a movie\, and conversation. No need to be a Convention Delegate to attend. We welcome our friends from NWPA. For those of you staying at the Sheraton\, we are working on a shuttle from the hotel. There is no cost to attend. \nDisability accessible\nParking is available on-site \nREGISTER HERE by October 3\, 2025
URL:https://episcopalwny.org/event/pre-convention-dinner-movie/
LOCATION:Community Missions of Niagara Frontier\, 1570 Buffalo Avenue\, Niagara Falls\, NY\, 14303\, United States
END:VEVENT
BEGIN:VEVENT
DTSTART;TZID=America/New_York:20250927T080000
DTEND;TZID=America/New_York:20250927T120000
DTSTAMP:20260422T182818
CREATED:20250821T203032Z
LAST-MODIFIED:20250905T142652Z
UID:926-1758960000-1758974400@episcopalwny.org
SUMMARY:Diocesan Youth Overnight
DESCRIPTION:Please contact Wendy Schumacher to participate.
URL:https://episcopalwny.org/event/diocesan-youth-overnight-2/
LOCATION:Diocesan Ministry Center\, 1064 Brighton Rd\, Tonawanda\, NY\, 14150\, United States
CATEGORIES:Event,Youth
END:VEVENT
BEGIN:VEVENT
DTSTART;TZID=America/New_York:20250926T190000
DTEND;TZID=America/New_York:20250926T220000
DTSTAMP:20260422T182818
CREATED:20250821T202431Z
LAST-MODIFIED:20250821T203058Z
UID:924-1758913200-1758924000@episcopalwny.org
SUMMARY:Diocesan Youth Overnight
DESCRIPTION:Details to be announced…
URL:https://episcopalwny.org/event/diocesan-youth-overnight/
LOCATION:Diocesan Ministry Center\, 1064 Brighton Rd\, Tonawanda\, NY\, 14150\, United States
CATEGORIES:Event,Youth
END:VEVENT
BEGIN:VEVENT
DTSTART;TZID=America/New_York:20250925T190000
DTEND;TZID=America/New_York:20250925T200000
DTSTAMP:20260422T182818
CREATED:20250910T143226Z
LAST-MODIFIED:20250910T143258Z
UID:1045-1758826800-1758830400@episcopalwny.org
SUMMARY:Pre-Convention Zoom Meeting
DESCRIPTION:Two pre-convention meetings will be held via Zoom on September 24 at 4pm and September 25 at 7pm. All clergy and lay delegates are strongly encouraged to attend one of these meetings. Registration is REQUIRED. \nThe agenda will be the same for both meetings\, so choose the one that best fits your schedule. A recording will be provided afterward\, if you cannot attend in-person. \nREGISTER for the 7pm\, September 25th Meeting
URL:https://episcopalwny.org/event/pre-convention-zoom-meeting/
CATEGORIES:Diocesan Convention,Event
END:VEVENT
BEGIN:VEVENT
DTSTART;TZID=America/New_York:20250924T160000
DTEND;TZID=America/New_York:20250924T170000
DTSTAMP:20260422T182818
CREATED:20250910T142828Z
LAST-MODIFIED:20250910T143353Z
UID:1040-1758729600-1758733200@episcopalwny.org
SUMMARY:Pre-Convention Zoom Meeting
DESCRIPTION:Two pre-convention meetings will be held via Zoom on September 24 at 4pm and September 25 at 7pm. All clergy and lay delegates are strongly encouraged to attend one of these meetings. Registration is REQUIRED. \nThe agenda will be the same for both meetings\, so choose the one that best fits your schedule. A recording will be provided afterward\, if you cannot attend in-person. \nREGISTER for the 4pm\, September 24th Meeting
URL:https://episcopalwny.org/event/pre-convention-meeting/
CATEGORIES:Diocesan Convention,Event
END:VEVENT
BEGIN:VEVENT
DTSTART;TZID=America/New_York:20250918T180000
DTEND;TZID=America/New_York:20250918T180000
DTSTAMP:20260422T182818
CREATED:20250623T175157Z
LAST-MODIFIED:20250623T175157Z
UID:455-1758218400-1758218400@episcopalwny.org
SUMMARY:Diocesan Council Meeting
DESCRIPTION:
URL:https://episcopalwny.org/event/diocesan-council-meeting-9-18-25/
CATEGORIES:Governance
END:VEVENT
BEGIN:VEVENT
DTSTART;TZID=America/New_York:20250913T090000
DTEND;TZID=America/New_York:20250913T153000
DTSTAMP:20260422T182818
CREATED:20250821T105736Z
LAST-MODIFIED:20250821T105744Z
UID:918-1757754000-1757777400@episcopalwny.org
SUMMARY:Worship Leader Training
DESCRIPTION:The Revs. Karen and Kathy Lawler will lead worship leader training on September 13 at the Diocesan Ministry Center from 9am-3:30pm. It is requested that you bring a bag lunch for yourself. \nREGISTER HERE
URL:https://episcopalwny.org/event/worship-leader-training/
LOCATION:Diocesan Ministry Center\, 1064 Brighton Rd\, Tonawanda\, NY\, 14150\, United States
CATEGORIES:Event
END:VEVENT
BEGIN:VEVENT
DTSTART;TZID=America/New_York:20250906T100000
DTEND;TZID=America/New_York:20250906T140000
DTSTAMP:20260422T182818
CREATED:20250820T144433Z
LAST-MODIFIED:20250820T144433Z
UID:912-1757152800-1757167200@episcopalwny.org
SUMMARY:St. Mary’s\, Salamanca Giveaway
DESCRIPTION:The former St. Mary’s Church in Salamanca will be open for congregations to take items for free—from a meeting table to a pulpit (no linens or vestments)\, much is available for those interested in acquiring the items. \nPlease note\, all items must be removed on the 6th with the exception of larger items. ALL ITEMS WILL NEED TO BE REMOVED BY September 20th. \nPlease keep the spirit of St. Mary’s alive by repurposing their church furniture and equipment.\nItems Include:\nAltar\nBishop’s Pew\nPredieux\nCandlesticks (qty: 2)\nAltar Book Stand\nSanctuary Light\nIron Candlesticks\nLectern\, Brass\nProcessional Cross\nPulpit\nHandrails (qty:2)\nAdvent Candle Wreath\nSanctuary Stained Glass\nLarge SS sink w/ counter\nJackson/Alco Model 100 w/ stand-\nGarland 10 Burner Range\nSS sink\nRefrigerator\nPlates/Cups\nMeeting table\nSilverware
URL:https://episcopalwny.org/event/st-marys-salamanca-giveaway/
LOCATION:St. Mary’s\, Salamanca\, 99 Wildwood Ave\, Salamanca\, NY\, 14779\, United States
CATEGORIES:Event
END:VEVENT
BEGIN:VEVENT
DTSTART;TZID=America/New_York:20250823T183000
DTEND;TZID=America/New_York:20250823T210000
DTSTAMP:20260422T182818
CREATED:20250703T153148Z
LAST-MODIFIED:20250703T153833Z
UID:577-1755973800-1755982800@episcopalwny.org
SUMMARY:Episcopal Night with the Bisons
DESCRIPTION:The Diocese has 100 tickets reserved for Harry Potter Night at the Buffalo Bisons on Saturday August 23rd. Although it’s not Quidditch\, we are in for a fun time at the game with fellow Episcopalians. The game begins at 6:35pm\, and you’ll have to be there to see what type of magic is being conjured up. The evening is to end with a fireworks show. \nTo reserve tickets ($14 each)\, please email Wendy Schumacher.
URL:https://episcopalwny.org/event/episcopal-night-with-the-bisons/
LOCATION:Sahlen’s Field\, 1 James D Griffin Plaza\, Buffalo\, NY\, 14203\, United States
CATEGORIES:Event,Youth
ORGANIZER;CN="Wendy Schumacher":MAILTO:wschumacher@episcopalwny.org
END:VEVENT
BEGIN:VEVENT
DTSTART;TZID=America/New_York:20250821T180000
DTEND;TZID=America/New_York:20250821T190000
DTSTAMP:20260422T182818
CREATED:20250813T150807Z
LAST-MODIFIED:20250813T150807Z
UID:854-1755799200-1755802800@episcopalwny.org
SUMMARY:Diocesan Council Meeting
DESCRIPTION:An in-person and hybrid meeting.  Watch for an email with the Zoom link.
URL:https://episcopalwny.org/event/diocesan-council-meeting/
LOCATION:Diocesan Ministry Center\, 1064 Brighton Rd\, Tonawanda\, NY\, 14150\, United States
CATEGORIES:Event,Governance
END:VEVENT
BEGIN:VEVENT
DTSTART;TZID=America/New_York:20250821T110000
DTEND;TZID=America/New_York:20250821T110000
DTSTAMP:20260422T182818
CREATED:20250623T174213Z
LAST-MODIFIED:20250623T174905Z
UID:441-1755774000-1755774000@episcopalwny.org
SUMMARY:Standing Committee Meeting
DESCRIPTION:
URL:https://episcopalwny.org/event/standing-committee-meeting-8-21-25/
CATEGORIES:Governance
END:VEVENT
BEGIN:VEVENT
DTSTART;VALUE=DATE:20250810
DTEND;VALUE=DATE:20250814
DTSTAMP:20260422T182818
CREATED:20250617T180137Z
LAST-MODIFIED:20250703T152343Z
UID:380-1754784000-1755129599@episcopalwny.org
SUMMARY:2025 Summer Camp
DESCRIPTION:The Diocese of Western New York will hold 2025 summer camp sessions in August. All students finishing grades 2 through 12 are welcome at camp: \n\nCamp will be held August 10 -13 at Lake Chautauqua Lutheran Center in Bemus Point\, NY. Contact Wendy Schumacher at with questions or for scholarship information.\nREGISTER HERE
URL:https://episcopalwny.org/event/2025-summer-camp/
LOCATION:Lake Chautauqua Lutheran Center\, 5013 NY-430\, Bemus Point\, NY\, 14712\, United States
CATEGORIES:Youth
ORGANIZER;CN="Wendy Schumacher":MAILTO:wschumacher@episcopalwny.org
END:VEVENT
BEGIN:VEVENT
DTSTART;TZID=America/New_York:20250730T160000
DTEND;TZID=America/New_York:20250730T160000
DTSTAMP:20260422T182818
CREATED:20250617T174346Z
LAST-MODIFIED:20250617T174346Z
UID:372-1753891200-1753891200@episcopalwny.org
SUMMARY:Trustees Meeting
DESCRIPTION:
URL:https://episcopalwny.org/event/trustees-meeting-7-30-25/
LOCATION:Diocesan Ministry Center\, 1064 Brighton Rd\, Tonawanda\, NY\, 14150\, United States
CATEGORIES:Governance
END:VEVENT
BEGIN:VEVENT
DTSTART;TZID=America/New_York:20250726T100000
DTEND;TZID=America/New_York:20250726T150000
DTSTAMP:20260422T182818
CREATED:20250703T151732Z
LAST-MODIFIED:20250703T151732Z
UID:570-1753524000-1753542000@episcopalwny.org
SUMMARY:Safe Church In-Person Training
DESCRIPTION:The Diocese will be hosting in-person training for the Safe Church program on July 26th from 10am-3pm at the Diocesan Ministry Center\, Tonawanda. Lunch will be included. \nThis training is for anyone in WNY who needs to complete the required training and are unable to take the online training or prefer to complete it in-person. A valid email address is needed for ALL participants. \nREGISTER HERE
URL:https://episcopalwny.org/event/safe-church-in-person-training/
LOCATION:Diocesan Ministry Center\, 1064 Brighton Rd\, Tonawanda\, NY\, 14150\, United States
CATEGORIES:Event
ORGANIZER;CN="Wendy Schumacher":MAILTO:wschumacher@episcopalwny.org
END:VEVENT
BEGIN:VEVENT
DTSTART;TZID=America/New_York:20250723T190000
DTEND;TZID=America/New_York:20250820T200000
DTSTAMP:20260422T182818
CREATED:20250714T175159Z
LAST-MODIFIED:20250714T175159Z
UID:703-1753297200-1755720000@episcopalwny.org
SUMMARY:CDRD SUMMER READ & LEARN VIRTUAL SERIES
DESCRIPTION:Join us this summer to read and discuss Black and Episcopalian: The Struggle for Inclusion. The Rev. Fisher-Steward shares with us a straight-forward and honest discussion of the experiences of Black Episcopalians in our faith through the eyes of a woman priest who is Black and Episcopalian. She asks: Do I “have to leave who I am at the door to worship and to lead worship in an Episcopal space?” \nHer writing will help us to understand ourselves better\, look inside our congregations and inform our work to dismantle racism and discrimination into the future. \nWhere: Virtual  *Upon registration submission\, you will receive a zoom link in the confirmation page which will be used for all 3 sessions\nWhen: Wednesday\, July 23 from 7:00-8:00 PM\n       Wednesday\, August 6 from 7:00-8:00 PM\n       Wednesday\, August 20 from 7:00-8:00 PM \nREGISTER HERE
URL:https://episcopalwny.org/event/cdrd-summer-read-learn-virtual-series/
CATEGORIES:Event
END:VEVENT
BEGIN:VEVENT
DTSTART;TZID=America/New_York:20250717T180000
DTEND;TZID=America/New_York:20250717T180000
DTSTAMP:20260422T182818
CREATED:20250623T174818Z
LAST-MODIFIED:20250623T174818Z
UID:451-1752775200-1752775200@episcopalwny.org
SUMMARY:Diocesan Council Meeting
DESCRIPTION:
URL:https://episcopalwny.org/event/diocesan-council-7-17-25/
CATEGORIES:Governance
END:VEVENT
END:VCALENDAR