BEGIN:VCALENDAR
VERSION:2.0
PRODID:-//Episcopal Diocese of Western New York - ECPv6.15.20//NONSGML v1.0//EN
CALSCALE:GREGORIAN
METHOD:PUBLISH
X-WR-CALNAME:Episcopal Diocese of Western New York
X-ORIGINAL-URL:https://episcopalwny.org
X-WR-CALDESC:Events for Episcopal Diocese of Western New York
REFRESH-INTERVAL;VALUE=DURATION:PT1H
X-Robots-Tag:noindex
X-PUBLISHED-TTL:PT1H
BEGIN:VTIMEZONE
TZID:America/New_York
BEGIN:DAYLIGHT
TZOFFSETFROM:-0500
TZOFFSETTO:-0400
TZNAME:EDT
DTSTART:20240310T070000
END:DAYLIGHT
BEGIN:STANDARD
TZOFFSETFROM:-0400
TZOFFSETTO:-0500
TZNAME:EST
DTSTART:20241103T060000
END:STANDARD
BEGIN:DAYLIGHT
TZOFFSETFROM:-0500
TZOFFSETTO:-0400
TZNAME:EDT
DTSTART:20250309T070000
END:DAYLIGHT
BEGIN:STANDARD
TZOFFSETFROM:-0400
TZOFFSETTO:-0500
TZNAME:EST
DTSTART:20251102T060000
END:STANDARD
BEGIN:DAYLIGHT
TZOFFSETFROM:-0500
TZOFFSETTO:-0400
TZNAME:EDT
DTSTART:20260308T070000
END:DAYLIGHT
BEGIN:STANDARD
TZOFFSETFROM:-0400
TZOFFSETTO:-0500
TZNAME:EST
DTSTART:20261101T060000
END:STANDARD
END:VTIMEZONE
BEGIN:VEVENT
DTSTART;VALUE=DATE:20250810
DTEND;VALUE=DATE:20250814
DTSTAMP:20260423T051159
CREATED:20250617T180137Z
LAST-MODIFIED:20250703T152343Z
UID:380-1754784000-1755129599@episcopalwny.org
SUMMARY:2025 Summer Camp
DESCRIPTION:The Diocese of Western New York will hold 2025 summer camp sessions in August. All students finishing grades 2 through 12 are welcome at camp: \n\nCamp will be held August 10 -13 at Lake Chautauqua Lutheran Center in Bemus Point\, NY. Contact Wendy Schumacher at with questions or for scholarship information.\nREGISTER HERE
URL:https://episcopalwny.org/event/2025-summer-camp/
LOCATION:Lake Chautauqua Lutheran Center\, 5013 NY-430\, Bemus Point\, NY\, 14712\, United States
CATEGORIES:Youth
ORGANIZER;CN="Wendy Schumacher":MAILTO:wschumacher@episcopalwny.org
END:VEVENT
BEGIN:VEVENT
DTSTART;TZID=America/New_York:20250823T183000
DTEND;TZID=America/New_York:20250823T210000
DTSTAMP:20260423T051159
CREATED:20250703T153148Z
LAST-MODIFIED:20250703T153833Z
UID:577-1755973800-1755982800@episcopalwny.org
SUMMARY:Episcopal Night with the Bisons
DESCRIPTION:The Diocese has 100 tickets reserved for Harry Potter Night at the Buffalo Bisons on Saturday August 23rd. Although it’s not Quidditch\, we are in for a fun time at the game with fellow Episcopalians. The game begins at 6:35pm\, and you’ll have to be there to see what type of magic is being conjured up. The evening is to end with a fireworks show. \nTo reserve tickets ($14 each)\, please email Wendy Schumacher.
URL:https://episcopalwny.org/event/episcopal-night-with-the-bisons/
LOCATION:Sahlen’s Field\, 1 James D Griffin Plaza\, Buffalo\, NY\, 14203\, United States
CATEGORIES:Event,Youth
ORGANIZER;CN="Wendy Schumacher":MAILTO:wschumacher@episcopalwny.org
END:VEVENT
END:VCALENDAR