BEGIN:VCALENDAR
VERSION:2.0
PRODID:-//Episcopal Diocese of Western New York - ECPv6.15.20//NONSGML v1.0//EN
CALSCALE:GREGORIAN
METHOD:PUBLISH
X-ORIGINAL-URL:https://episcopalwny.org
X-WR-CALDESC:Events for Episcopal Diocese of Western New York
REFRESH-INTERVAL;VALUE=DURATION:PT1H
X-Robots-Tag:noindex
X-PUBLISHED-TTL:PT1H
BEGIN:VTIMEZONE
TZID:America/New_York
BEGIN:DAYLIGHT
TZOFFSETFROM:-0500
TZOFFSETTO:-0400
TZNAME:EDT
DTSTART:20250309T070000
END:DAYLIGHT
BEGIN:STANDARD
TZOFFSETFROM:-0400
TZOFFSETTO:-0500
TZNAME:EST
DTSTART:20251102T060000
END:STANDARD
BEGIN:DAYLIGHT
TZOFFSETFROM:-0500
TZOFFSETTO:-0400
TZNAME:EDT
DTSTART:20260308T070000
END:DAYLIGHT
BEGIN:STANDARD
TZOFFSETFROM:-0400
TZOFFSETTO:-0500
TZNAME:EST
DTSTART:20261101T060000
END:STANDARD
BEGIN:DAYLIGHT
TZOFFSETFROM:-0500
TZOFFSETTO:-0400
TZNAME:EDT
DTSTART:20270314T070000
END:DAYLIGHT
BEGIN:STANDARD
TZOFFSETFROM:-0400
TZOFFSETTO:-0500
TZNAME:EST
DTSTART:20271107T060000
END:STANDARD
END:VTIMEZONE
BEGIN:VEVENT
DTSTART;TZID=America/New_York:20260521T160000
DTEND;TZID=America/New_York:20260521T160000
DTSTAMP:20260422T183946
CREATED:20251210T201910Z
LAST-MODIFIED:20251210T201910Z
UID:1596-1779379200-1779379200@episcopalwny.org
SUMMARY:Standing Committee Meeting
DESCRIPTION:
URL:https://episcopalwny.org/event/standing-committee-meeting-8/
LOCATION:Diocesan Ministry Center\, 1064 Brighton Rd\, Tonawanda\, NY\, 14150\, United States
CATEGORIES:Event,Governance
END:VEVENT
BEGIN:VEVENT
DTSTART;TZID=America/New_York:20260521T180000
DTEND;TZID=America/New_York:20260521T180000
DTSTAMP:20260422T183946
CREATED:20251210T201955Z
LAST-MODIFIED:20251210T201955Z
UID:1598-1779386400-1779386400@episcopalwny.org
SUMMARY:Diocesan Council Meeting
DESCRIPTION:
URL:https://episcopalwny.org/event/diocesan-council-meeting-6/
LOCATION:Diocesan Ministry Center\, 1064 Brighton Rd\, Tonawanda\, NY\, 14150\, United States
CATEGORIES:Event,Governance
END:VEVENT
BEGIN:VEVENT
DTSTART;TZID=America/New_York:20260524T100000
DTEND;TZID=America/New_York:20260524T120000
DTSTAMP:20260422T183946
CREATED:20251105T193908Z
LAST-MODIFIED:20251211T143751Z
UID:1457-1779616800-1779624000@episcopalwny.org
SUMMARY:Bishop's Visitation - St. Luke’s\, Jamestown
DESCRIPTION:
URL:https://episcopalwny.org/event/bishops-visit-st-lukes-jamestown/
LOCATION:St. Luke’s\, Jamestown\, 410 N Main St.\, Jamestown\, NY\, 14701\, United States
CATEGORIES:Bishop Visitation,Event
END:VEVENT
BEGIN:VEVENT
DTSTART;TZID=America/New_York:20260528T190000
DTEND;TZID=America/New_York:20260528T203000
DTSTAMP:20260422T183946
CREATED:20260413T123726Z
LAST-MODIFIED:20260413T123848Z
UID:2112-1779994800-1780000200@episcopalwny.org
SUMMARY:CDRD Virtual Workshop Series with the Rev. Isaiah “Shaneequa” Brokenleg
DESCRIPTION:The Commission to Dismantle Racism and Discrimination (CDRD) announces a 2-Part Virtual Workshop Series with the Rev. Isaiah “Shaneequa” Brokenleg (April 30 and May 28). \nThursday\, May 28 from 7pm – 8:30 PM\nDeveloping Your Personal Theology: What Is at the Core of Who You Are?\nParticipants are invited to reflect deeply on the heart of their identity and spirituality. Using tools like the “tree of life” exercise and guided theological reflection\, we’ll explore ways to understand and articulate your personal theology. The presentation will also highlight the theology of relationships and wolakota as one approach to living in connection with others. Whether you are just beginning to consider your spiritual framework or seeking to deepen an existing practice\, this session offers space for reflection\, insight\, and growth. \nFor more information\, please visit the CDRD Website Page \nParticipation is free. Register HERE\nA Zoom link will be shared in the Thank You message upon registering.
URL:https://episcopalwny.org/event/cdrd-virtual-workshop-series-with-the-rev-isaiah-shaneequa-brokenleg-2/
LOCATION:NY
CATEGORIES:Event
END:VEVENT
BEGIN:VEVENT
DTSTART;TZID=America/New_York:20260607T093000
DTEND;TZID=America/New_York:20260607T113000
DTSTAMP:20260422T183946
CREATED:20260116T201656Z
LAST-MODIFIED:20260116T201729Z
UID:1797-1780824600-1780831800@episcopalwny.org
SUMMARY:Bishop's Visitation - St. John's\, Youngstown
DESCRIPTION:
URL:https://episcopalwny.org/event/bishops-visitation-st-johns-youngstown/
LOCATION:St John’s\, Youngstown\, 110 Chestnut St\, Youngstown\, NY\, 14174\, United States
CATEGORIES:Bishop Visitation,Event
END:VEVENT
BEGIN:VEVENT
DTSTART;TZID=America/New_York:20260618T160000
DTEND;TZID=America/New_York:20260618T160000
DTSTAMP:20260422T183946
CREATED:20251210T201738Z
LAST-MODIFIED:20251210T201738Z
UID:1592-1781798400-1781798400@episcopalwny.org
SUMMARY:Standing Committee Meeting
DESCRIPTION:
URL:https://episcopalwny.org/event/standing-committee-meeting-7/
LOCATION:Diocesan Ministry Center\, 1064 Brighton Rd\, Tonawanda\, NY\, 14150\, United States
CATEGORIES:Event,Governance
END:VEVENT
BEGIN:VEVENT
DTSTART;TZID=America/New_York:20260618T180000
DTEND;TZID=America/New_York:20260618T180000
DTSTAMP:20260422T183946
CREATED:20251210T201822Z
LAST-MODIFIED:20251210T201822Z
UID:1594-1781805600-1781805600@episcopalwny.org
SUMMARY:Diocesan Council Meeting
DESCRIPTION:
URL:https://episcopalwny.org/event/diocesan-council-meeting-5/
LOCATION:Diocesan Ministry Center\, 1064 Brighton Rd\, Tonawanda\, NY\, 14150\, United States
CATEGORIES:Event,Governance
END:VEVENT
BEGIN:VEVENT
DTSTART;TZID=America/New_York:20260619T090000
DTEND;TZID=America/New_York:20260619T170000
DTSTAMP:20260422T183946
CREATED:20251218T190814Z
LAST-MODIFIED:20251218T190814Z
UID:1710-1781859600-1781888400@episcopalwny.org
SUMMARY:Commission to Dismantle Racism & Discrimination: Juneteenth Celebration
DESCRIPTION:
URL:https://episcopalwny.org/event/commission-to-dismantle-racism-discrimination-juneteenth-celebration/
LOCATION:Diocesan Ministry Center\, 1064 Brighton Rd\, Tonawanda\, NY\, 14150\, United States
CATEGORIES:Event
END:VEVENT
BEGIN:VEVENT
DTSTART;TZID=America/New_York:20260621T093000
DTEND;TZID=America/New_York:20260621T093000
DTSTAMP:20260422T183946
CREATED:20251217T202258Z
LAST-MODIFIED:20251217T202258Z
UID:1692-1782034200-1782034200@episcopalwny.org
SUMMARY:Bishop's Visitation - St. Stephen's\, Niagara Falls
DESCRIPTION:
URL:https://episcopalwny.org/event/bishops-visitation-st-stephens-niagara-falls/
LOCATION:St Stephen’s\, NF\, 616 Cayuga Drive\, Niagara Falls\, NY\, 14304\, United States
CATEGORIES:Bishop Visitation,Event
END:VEVENT
BEGIN:VEVENT
DTSTART;TZID=America/New_York:20260716T160000
DTEND;TZID=America/New_York:20260716T160000
DTSTAMP:20260422T183946
CREATED:20251210T201647Z
LAST-MODIFIED:20251210T201647Z
UID:1590-1784217600-1784217600@episcopalwny.org
SUMMARY:Standing Committee Meeting
DESCRIPTION:
URL:https://episcopalwny.org/event/standing-committee-meeting-6/
LOCATION:Diocesan Ministry Center\, 1064 Brighton Rd\, Tonawanda\, NY\, 14150\, United States
CATEGORIES:Event,Governance
END:VEVENT
BEGIN:VEVENT
DTSTART;TZID=America/New_York:20260729T160000
DTEND;TZID=America/New_York:20260729T160000
DTSTAMP:20260422T183946
CREATED:20251210T193340Z
LAST-MODIFIED:20251210T193340Z
UID:1566-1785340800-1785340800@episcopalwny.org
SUMMARY:Trustees Meeting
DESCRIPTION:
URL:https://episcopalwny.org/event/trustees-meeting-3/
LOCATION:Diocesan Ministry Center\, 1064 Brighton Rd\, Tonawanda\, NY\, 14150\, United States
CATEGORIES:Event
END:VEVENT
BEGIN:VEVENT
DTSTART;TZID=America/New_York:20260809T120000
DTEND;TZID=America/New_York:20260812T170000
DTSTAMP:20260422T183946
CREATED:20260223T184819Z
LAST-MODIFIED:20260226T142309Z
UID:1918-1786276800-1786554000@episcopalwny.org
SUMMARY:Sleep Away Camp
DESCRIPTION:Summer Camp is a long-standing tradition in the Episcopal Diocese of Western New York\, and we are delighted to share that planning is underway for this year’s camp. Sleep Away Camp will be held August 9–12 at the Lake Chautauqua Lutheran Center in Bemus Point. Camp is open to all youth currently in 2nd through 12th grade\, and campers will be divided into three groups based on grade level to ensure age-appropriate programming and activities. and the cost is $275. \nFor details and camp registration\, CLICK HERE \nDOWNLOAD a Flyer
URL:https://episcopalwny.org/event/sleep-away-camp/
LOCATION:Lake Chautauqua Lutheran Center\, 5013 NY-430\, Bemus Point\, NY\, 14712\, United States
CATEGORIES:Event,Youth
END:VEVENT
BEGIN:VEVENT
DTSTART;TZID=America/New_York:20260820T160000
DTEND;TZID=America/New_York:20260820T160000
DTSTAMP:20260422T183946
CREATED:20251210T201556Z
LAST-MODIFIED:20251210T201556Z
UID:1588-1787241600-1787241600@episcopalwny.org
SUMMARY:Standing Committee Meeting
DESCRIPTION:
URL:https://episcopalwny.org/event/standing-committee-meeting-5/
LOCATION:Diocesan Ministry Center\, 1064 Brighton Rd\, Tonawanda\, NY\, 14150\, United States
CATEGORIES:Event,Governance
END:VEVENT
BEGIN:VEVENT
DTSTART;TZID=America/New_York:20260913T103000
DTEND;TZID=America/New_York:20260913T123000
DTSTAMP:20260422T183946
CREATED:20260116T202039Z
LAST-MODIFIED:20260130T213407Z
UID:1800-1789295400-1789302600@episcopalwny.org
SUMMARY:Bishop's Visitation - St. Mark's\, LeRoy
DESCRIPTION:
URL:https://episcopalwny.org/event/biship-visitation-st-marks-leroy/
LOCATION:St. Mark’s\, LeRoy\, 1 East Main Street\, LeRoy\, NY\, 14482\, United States
CATEGORIES:Bishop Visitation,Event
END:VEVENT
BEGIN:VEVENT
DTSTART;TZID=America/New_York:20260917T160000
DTEND;TZID=America/New_York:20260917T160000
DTSTAMP:20260422T183946
CREATED:20251210T201408Z
LAST-MODIFIED:20251210T201408Z
UID:1584-1789660800-1789660800@episcopalwny.org
SUMMARY:Standing Committee Meeting
DESCRIPTION:
URL:https://episcopalwny.org/event/standing-committee-meeting-4/
LOCATION:Diocesan Ministry Center\, 1064 Brighton Rd\, Tonawanda\, NY\, 14150\, United States
CATEGORIES:Event,Governance
END:VEVENT
BEGIN:VEVENT
DTSTART;TZID=America/New_York:20260917T180000
DTEND;TZID=America/New_York:20260917T180000
DTSTAMP:20260422T183946
CREATED:20251210T201459Z
LAST-MODIFIED:20251210T201459Z
UID:1586-1789668000-1789668000@episcopalwny.org
SUMMARY:Diocesan Council Meeting
DESCRIPTION:
URL:https://episcopalwny.org/event/diocesan-council-meeting-4/
LOCATION:Diocesan Ministry Center\, 1064 Brighton Rd\, Tonawanda\, NY\, 14150\, United States
CATEGORIES:Event,Governance
END:VEVENT
BEGIN:VEVENT
DTSTART;TZID=America/New_York:20261015T160000
DTEND;TZID=America/New_York:20261015T160000
DTSTAMP:20260422T183946
CREATED:20251210T201221Z
LAST-MODIFIED:20251210T201221Z
UID:1580-1792080000-1792080000@episcopalwny.org
SUMMARY:Standing Committee Meeting
DESCRIPTION:
URL:https://episcopalwny.org/event/standing-committee-meeting-3/
LOCATION:Diocesan Ministry Center\, 1064 Brighton Rd\, Tonawanda\, NY\, 14150\, United States
CATEGORIES:Event,Governance
END:VEVENT
BEGIN:VEVENT
DTSTART;TZID=America/New_York:20261015T180000
DTEND;TZID=America/New_York:20261015T180000
DTSTAMP:20260422T183946
CREATED:20251210T201313Z
LAST-MODIFIED:20251210T201313Z
UID:1582-1792087200-1792087200@episcopalwny.org
SUMMARY:Diocesan Council Meeting
DESCRIPTION:
URL:https://episcopalwny.org/event/diocesan-council-meeting-3/
LOCATION:Diocesan Ministry Center\, 1064 Brighton Rd\, Tonawanda\, NY\, 14150\, United States
CATEGORIES:Event,Governance
END:VEVENT
BEGIN:VEVENT
DTSTART;TZID=America/New_York:20261023T100000
DTEND;TZID=America/New_York:20261024T100000
DTSTAMP:20260422T183946
CREATED:20251210T194016Z
LAST-MODIFIED:20251210T194016Z
UID:1571-1792749600-1792836000@episcopalwny.org
SUMMARY:Diocesan Convention
DESCRIPTION:
URL:https://episcopalwny.org/event/diocesan-convention/
LOCATION:Chautauqua Harbor Hotel\, 10 Dunham Avenue\, Celeron\, NY\, 14720\, United States
CATEGORIES:Diocesan Convention,Event
END:VEVENT
BEGIN:VEVENT
DTSTART;TZID=America/New_York:20261028T160000
DTEND;TZID=America/New_York:20261028T160000
DTSTAMP:20260422T183946
CREATED:20251210T193441Z
LAST-MODIFIED:20251210T193441Z
UID:1568-1793203200-1793203200@episcopalwny.org
SUMMARY:Trustees Meeting
DESCRIPTION:
URL:https://episcopalwny.org/event/trustees-meeting-4/
LOCATION:Diocesan Ministry Center\, 1064 Brighton Rd\, Tonawanda\, NY\, 14150\, United States
CATEGORIES:Event
END:VEVENT
BEGIN:VEVENT
DTSTART;TZID=America/New_York:20261108T093000
DTEND;TZID=America/New_York:20261108T093000
DTSTAMP:20260422T183946
CREATED:20260410T182504Z
LAST-MODIFIED:20260410T182631Z
UID:2097-1794130200-1794130200@episcopalwny.org
SUMMARY:Bishop's Visitation - St. Aidan's\, Alden
DESCRIPTION:
URL:https://episcopalwny.org/event/bishops-visitation-alden/
LOCATION:St Aidan’s\, 13021 W Main St\, Alden\, NY\, 14004\, United States
CATEGORIES:Bishop Visitation,Event
END:VEVENT
BEGIN:VEVENT
DTSTART;TZID=America/New_York:20261119T160000
DTEND;TZID=America/New_York:20261119T160000
DTSTAMP:20260422T183946
CREATED:20251210T201015Z
LAST-MODIFIED:20251210T201015Z
UID:1576-1795104000-1795104000@episcopalwny.org
SUMMARY:Standing Committee Meeting
DESCRIPTION:
URL:https://episcopalwny.org/event/standing-committee-meeting-2/
LOCATION:Diocesan Ministry Center\, 1064 Brighton Rd\, Tonawanda\, NY\, 14150\, United States
CATEGORIES:Event,Governance
END:VEVENT
BEGIN:VEVENT
DTSTART;TZID=America/New_York:20261119T180000
DTEND;TZID=America/New_York:20261119T180000
DTSTAMP:20260422T183946
CREATED:20251210T201115Z
LAST-MODIFIED:20251210T201115Z
UID:1578-1795111200-1795111200@episcopalwny.org
SUMMARY:Diocesan Council Meeting
DESCRIPTION:
URL:https://episcopalwny.org/event/diocesan-council-meeting-2/
LOCATION:Diocesan Ministry Center\, 1064 Brighton Rd\, Tonawanda\, NY\, 14150\, United States
CATEGORIES:Event,Governance
END:VEVENT
BEGIN:VEVENT
DTSTART;TZID=America/New_York:20261217T160000
DTEND;TZID=America/New_York:20261217T160000
DTSTAMP:20260422T183946
CREATED:20251210T200914Z
LAST-MODIFIED:20251210T200914Z
UID:1574-1797523200-1797523200@episcopalwny.org
SUMMARY:Standing Committee Meeting
DESCRIPTION:
URL:https://episcopalwny.org/event/standing-committee-meeting/
LOCATION:Diocesan Ministry Center\, 1064 Brighton Rd\, Tonawanda\, NY\, 14150\, United States
CATEGORIES:Event,Governance
END:VEVENT
END:VCALENDAR