BEGIN:VCALENDAR
VERSION:2.0
PRODID:-//Episcopal Diocese of Western New York - ECPv6.15.20//NONSGML v1.0//EN
CALSCALE:GREGORIAN
METHOD:PUBLISH
X-ORIGINAL-URL:https://episcopalwny.org
X-WR-CALDESC:Events for Episcopal Diocese of Western New York
REFRESH-INTERVAL;VALUE=DURATION:PT1H
X-Robots-Tag:noindex
X-PUBLISHED-TTL:PT1H
BEGIN:VTIMEZONE
TZID:America/New_York
BEGIN:DAYLIGHT
TZOFFSETFROM:-0500
TZOFFSETTO:-0400
TZNAME:EDT
DTSTART:20240310T070000
END:DAYLIGHT
BEGIN:STANDARD
TZOFFSETFROM:-0400
TZOFFSETTO:-0500
TZNAME:EST
DTSTART:20241103T060000
END:STANDARD
BEGIN:DAYLIGHT
TZOFFSETFROM:-0500
TZOFFSETTO:-0400
TZNAME:EDT
DTSTART:20250309T070000
END:DAYLIGHT
BEGIN:STANDARD
TZOFFSETFROM:-0400
TZOFFSETTO:-0500
TZNAME:EST
DTSTART:20251102T060000
END:STANDARD
BEGIN:DAYLIGHT
TZOFFSETFROM:-0500
TZOFFSETTO:-0400
TZNAME:EDT
DTSTART:20260308T070000
END:DAYLIGHT
BEGIN:STANDARD
TZOFFSETFROM:-0400
TZOFFSETTO:-0500
TZNAME:EST
DTSTART:20261101T060000
END:STANDARD
END:VTIMEZONE
BEGIN:VEVENT
DTSTART;TZID=America/New_York:20251010T100000
DTEND;TZID=America/New_York:20251011T120000
DTSTAMP:20260422T152322
CREATED:20250617T174949Z
LAST-MODIFIED:20250724T145627Z
UID:375-1760090400-1760184000@episcopalwny.org
SUMMARY:2025 Diocesan Convention
DESCRIPTION:The 2025 Convention of the Diocese of Western New York will be held at the Niagara Falls Convention Center in Niagara Falls on October 10-11\, 2025. \nFor details\, please see our 2025 Diocesan Convention Page
URL:https://episcopalwny.org/event/2025-diocesan-convention/
LOCATION:Niagara Falls Convention Center\, 101 Old Falls Street\, Niagara Falls\, NY\, 14303\, United States
CATEGORIES:Diocesan Convention
END:VEVENT
BEGIN:VEVENT
DTSTART;TZID=America/New_York:20250925T190000
DTEND;TZID=America/New_York:20250925T200000
DTSTAMP:20260422T152322
CREATED:20250910T143226Z
LAST-MODIFIED:20250910T143258Z
UID:1045-1758826800-1758830400@episcopalwny.org
SUMMARY:Pre-Convention Zoom Meeting
DESCRIPTION:Two pre-convention meetings will be held via Zoom on September 24 at 4pm and September 25 at 7pm. All clergy and lay delegates are strongly encouraged to attend one of these meetings. Registration is REQUIRED. \nThe agenda will be the same for both meetings\, so choose the one that best fits your schedule. A recording will be provided afterward\, if you cannot attend in-person. \nREGISTER for the 7pm\, September 25th Meeting
URL:https://episcopalwny.org/event/pre-convention-zoom-meeting/
LOCATION:NY
CATEGORIES:Diocesan Convention,Event
END:VEVENT
BEGIN:VEVENT
DTSTART;TZID=America/New_York:20250924T160000
DTEND;TZID=America/New_York:20250924T170000
DTSTAMP:20260422T152322
CREATED:20250910T142828Z
LAST-MODIFIED:20250910T143353Z
UID:1040-1758729600-1758733200@episcopalwny.org
SUMMARY:Pre-Convention Zoom Meeting
DESCRIPTION:Two pre-convention meetings will be held via Zoom on September 24 at 4pm and September 25 at 7pm. All clergy and lay delegates are strongly encouraged to attend one of these meetings. Registration is REQUIRED. \nThe agenda will be the same for both meetings\, so choose the one that best fits your schedule. A recording will be provided afterward\, if you cannot attend in-person. \nREGISTER for the 4pm\, September 24th Meeting
URL:https://episcopalwny.org/event/pre-convention-meeting/
LOCATION:NY
CATEGORIES:Diocesan Convention,Event
END:VEVENT
END:VCALENDAR