BEGIN:VCALENDAR
VERSION:2.0
PRODID:-//Episcopal Diocese of Western New York - ECPv6.15.20//NONSGML v1.0//EN
CALSCALE:GREGORIAN
METHOD:PUBLISH
X-WR-CALNAME:Episcopal Diocese of Western New York
X-ORIGINAL-URL:https://episcopalwny.org
X-WR-CALDESC:Events for Episcopal Diocese of Western New York
REFRESH-INTERVAL;VALUE=DURATION:PT1H
X-Robots-Tag:noindex
X-PUBLISHED-TTL:PT1H
BEGIN:VTIMEZONE
TZID:America/New_York
BEGIN:DAYLIGHT
TZOFFSETFROM:-0500
TZOFFSETTO:-0400
TZNAME:EDT
DTSTART:20240310T070000
END:DAYLIGHT
BEGIN:STANDARD
TZOFFSETFROM:-0400
TZOFFSETTO:-0500
TZNAME:EST
DTSTART:20241103T060000
END:STANDARD
BEGIN:DAYLIGHT
TZOFFSETFROM:-0500
TZOFFSETTO:-0400
TZNAME:EDT
DTSTART:20250309T070000
END:DAYLIGHT
BEGIN:STANDARD
TZOFFSETFROM:-0400
TZOFFSETTO:-0500
TZNAME:EST
DTSTART:20251102T060000
END:STANDARD
BEGIN:DAYLIGHT
TZOFFSETFROM:-0500
TZOFFSETTO:-0400
TZNAME:EDT
DTSTART:20260308T070000
END:DAYLIGHT
BEGIN:STANDARD
TZOFFSETFROM:-0400
TZOFFSETTO:-0500
TZNAME:EST
DTSTART:20261101T060000
END:STANDARD
END:VTIMEZONE
BEGIN:VEVENT
DTSTART;TZID=America/New_York:20251026T093000
DTEND;TZID=America/New_York:20251026T113000
DTSTAMP:20260422T233104
CREATED:20251021T183929Z
LAST-MODIFIED:20251021T184402Z
UID:1352-1761471000-1761478200@episcopalwny.org
SUMMARY:Bishop Visitation - St. Philip's\, Buffalo
DESCRIPTION:
URL:https://episcopalwny.org/event/bishop-visitation-st-philips-buffalo/
LOCATION:St. Philip’s\, 15 Fernhill Avenue\, Buffalo\, NY\, 14215\, United States
CATEGORIES:Bishop Visitation,Event
END:VEVENT
END:VCALENDAR